BEGIN:VCALENDAR
VERSION:2.0
PRODID:-//AWGB - ECPv6.15.20//NONSGML v1.0//EN
CALSCALE:GREGORIAN
METHOD:PUBLISH
X-WR-CALNAME:AWGB
X-ORIGINAL-URL:https://awgb.co.uk
X-WR-CALDESC:Events for AWGB
REFRESH-INTERVAL;VALUE=DURATION:PT1H
X-Robots-Tag:noindex
X-PUBLISHED-TTL:PT1H
BEGIN:VTIMEZONE
TZID:UTC
BEGIN:STANDARD
TZOFFSETFROM:+0000
TZOFFSETTO:+0000
TZNAME:UTC
DTSTART:20240101T000000
END:STANDARD
END:VTIMEZONE
BEGIN:VEVENT
DTSTART;TZID=UTC:20250614T090000
DTEND;TZID=UTC:20250614T170000
DTSTAMP:20260422T093926
CREATED:20250527T085913Z
LAST-MODIFIED:20250527T085913Z
UID:9016-1749891600-1749920400@awgb.co.uk
SUMMARY:Jason Breach masterclass
DESCRIPTION:From Forest of Bere Woodturners \nWe have booked Jason Breach for a masterclass with our club on Saturday 14th June 2025. \nWe would love to open it out to members of other clubs and AWGB members. \nIt will be held at St Nicholas church\, Belmont Grove\, Bedhampton\, Portsmouth\, Hants\, PO9 3PU. \nThere it limited parking at the church so car shares are encouraged\, however there is also street parking in the local area. \nCost is £20 on the door and start time is 9am \nThere will be light refreshments & we are looking to do an order from the local fish & chip shop for those interested\,( there is also a co-op very close or people can of course bring their own lunch if this doesn’t suit) \nIf there are any questions Catherine Forest-Hill  can be contacted at secretary@forestofberewoodturners.com
URL:https://awgb.co.uk/event/jason-breach-masterclass/
LOCATION:St Nicholas Church\, Belmont Grove\, Bedhampton\, Portsmouth\, Hampshire\, PO9 3PU\, United Kingdom
CATEGORIES:Club demonstration
END:VEVENT
END:VCALENDAR