BEGIN:VCALENDAR
VERSION:2.0
PRODID:-//AWGB - ECPv6.15.20//NONSGML v1.0//EN
CALSCALE:GREGORIAN
METHOD:PUBLISH
X-WR-CALNAME:AWGB
X-ORIGINAL-URL:https://awgb.co.uk
X-WR-CALDESC:Events for AWGB
REFRESH-INTERVAL;VALUE=DURATION:PT1H
X-Robots-Tag:noindex
X-PUBLISHED-TTL:PT1H
BEGIN:VTIMEZONE
TZID:UTC
BEGIN:STANDARD
TZOFFSETFROM:+0000
TZOFFSETTO:+0000
TZNAME:UTC
DTSTART:20170101T000000
END:STANDARD
END:VTIMEZONE
BEGIN:VTIMEZONE
TZID:Europe/London
BEGIN:DAYLIGHT
TZOFFSETFROM:+0000
TZOFFSETTO:+0100
TZNAME:BST
DTSTART:20190331T010000
END:DAYLIGHT
BEGIN:STANDARD
TZOFFSETFROM:+0100
TZOFFSETTO:+0000
TZNAME:GMT
DTSTART:20191027T010000
END:STANDARD
BEGIN:DAYLIGHT
TZOFFSETFROM:+0000
TZOFFSETTO:+0100
TZNAME:BST
DTSTART:20200329T010000
END:DAYLIGHT
BEGIN:STANDARD
TZOFFSETFROM:+0100
TZOFFSETTO:+0000
TZNAME:GMT
DTSTART:20201025T010000
END:STANDARD
BEGIN:DAYLIGHT
TZOFFSETFROM:+0000
TZOFFSETTO:+0100
TZNAME:BST
DTSTART:20210328T010000
END:DAYLIGHT
BEGIN:STANDARD
TZOFFSETFROM:+0100
TZOFFSETTO:+0000
TZNAME:GMT
DTSTART:20211031T010000
END:STANDARD
END:VTIMEZONE
BEGIN:VEVENT
DTSTART;TZID=UTC:20210122T193000
DTEND;TZID=UTC:20210122T213000
DTSTAMP:20260419T221137
CREATED:20210121T200926Z
LAST-MODIFIED:20210121T200926Z
UID:5978-1611343800-1611351000@awgb.co.uk
SUMMARY:Talking Turning Sessions
DESCRIPTION:Join us for discussions\, Q&A\, demonstrations\, talks etc. Free for anyone to attend. More details on the website here – https://awgb.co.uk/talking-turning-zoom-sessions/
URL:https://awgb.co.uk/event/talking-turning-sessions/
LOCATION:Online
CATEGORIES:Talking Turning
ORGANIZER;CN="AWGB":MAILTO:info@awgb.co.uk
END:VEVENT
BEGIN:VEVENT
DTSTART;TZID=UTC:20201214T193000
DTEND;TZID=UTC:20201214T220000
DTSTAMP:20260419T221137
CREATED:20200903T115853Z
LAST-MODIFIED:20200903T115853Z
UID:5212-1607974200-1607983200@awgb.co.uk
SUMMARY:Conkers live demos
DESCRIPTION:Chestnut Products Conkers live demos
URL:https://awgb.co.uk/event/conkers-live-demos-duplicate-4/
LOCATION:Zoom meeting – online
CATEGORIES:Live demo
END:VEVENT
BEGIN:VEVENT
DTSTART;TZID=UTC:20201126T193000
DTEND;TZID=UTC:20201126T220000
DTSTAMP:20260419T221137
CREATED:20200903T115648Z
LAST-MODIFIED:20200903T115648Z
UID:5211-1606419000-1606428000@awgb.co.uk
SUMMARY:Conkers live demos
DESCRIPTION:Chestnut Products Conkers live demos
URL:https://awgb.co.uk/event/conkers-live-demos-duplicate-3/
LOCATION:Zoom meeting – online
CATEGORIES:Live demo
END:VEVENT
BEGIN:VEVENT
DTSTART;TZID=UTC:20201103T193000
DTEND;TZID=UTC:20201103T220000
DTSTAMP:20260419T221137
CREATED:20200903T115617Z
LAST-MODIFIED:20200903T115617Z
UID:5210-1604431800-1604440800@awgb.co.uk
SUMMARY:Conkers live demos
DESCRIPTION:Chestnut Products Conkers live demos
URL:https://awgb.co.uk/event/conkers-live-demos-duplicate-2/
LOCATION:Zoom meeting – online
CATEGORIES:Live demo
END:VEVENT
BEGIN:VEVENT
DTSTART;TZID=UTC:20201013T193000
DTEND;TZID=UTC:20201013T220000
DTSTAMP:20260419T221137
CREATED:20200903T115531Z
LAST-MODIFIED:20200903T115543Z
UID:5209-1602617400-1602626400@awgb.co.uk
SUMMARY:Conkers live demos
DESCRIPTION:Chestnut Products Conkers live demos
URL:https://awgb.co.uk/event/conkers-live-demos-duplicate-1/
LOCATION:Zoom meeting – online
CATEGORIES:Live demo
END:VEVENT
BEGIN:VEVENT
DTSTART;TZID=UTC:20200916T193000
DTEND;TZID=UTC:20200916T220000
DTSTAMP:20260419T221137
CREATED:20200903T114812Z
LAST-MODIFIED:20200903T114812Z
UID:5207-1600284600-1600293600@awgb.co.uk
SUMMARY:Conkers live demos
DESCRIPTION:Chestnut Products Conkers live demos
URL:https://awgb.co.uk/event/conkers-live-demos/
LOCATION:Zoom meeting – online
CATEGORIES:Live demo
END:VEVENT
BEGIN:VEVENT
DTSTART;TZID=Europe/London:20200830T160000
DTEND;TZID=Europe/London:20200830T180000
DTSTAMP:20260419T221137
CREATED:20200721T120512Z
LAST-MODIFIED:20200721T120550Z
UID:5115-1598803200-1598810400@awgb.co.uk
SUMMARY:Live demo Sunday
DESCRIPTION:A live demonstration by – awaits
URL:https://awgb.co.uk/event/live-demo-sunday-2/
LOCATION:Zoom meeting – online
CATEGORIES:Live demo
END:VEVENT
BEGIN:VEVENT
DTSTART;TZID=Europe/London:20200816T160000
DTEND;TZID=Europe/London:20200816T180000
DTSTAMP:20260419T221137
CREATED:20200721T120400Z
LAST-MODIFIED:20200721T182402Z
UID:5113-1597593600-1597600800@awgb.co.uk
SUMMARY:Live demo Sunday
DESCRIPTION:We will be hosting an online demo by Darren Breeze on Sunday 16th August at 4pm. Darren will be showing a combination of texture\, scorching and colour so there should be something for everybody!
URL:https://awgb.co.uk/event/live-demo-sunday/
LOCATION:Zoom meeting – online
CATEGORIES:Live demo
END:VEVENT
BEGIN:VEVENT
DTSTART;TZID=UTC:20200807T193000
DTEND;TZID=UTC:20200807T213000
DTSTAMP:20260419T221137
CREATED:20200730T133716Z
LAST-MODIFIED:20200730T133716Z
UID:5178-1596828600-1596835800@awgb.co.uk
SUMMARY:Friday Turning & Talking
DESCRIPTION:We have a number of turners who have agreed to give us a guided tour of their workshop\, a talk about what they make and a Q & A session too. These are all free of charge to anyone wanting to participate and you can connect from almost any internet enabled device using the link below. It’s the same link for every meeting. Register in advance for this meeting Using this link \nAfter registering\, you will receive a confirmation email containing information about joining the meeting. Please register in advance to ensure you receive the email with meeting details. \nThe meetings are at 7:30pm BST every Tuesday and Friday evening. We will open the meeting at 7:00pm to allow everyone time to get connected before the meeting.` \nThis meeting will be a chat / discussion about sharpening
URL:https://awgb.co.uk/event/friday-turning-talking-2/
LOCATION:Zoom meeting – online
CATEGORIES:Talking Turning
END:VEVENT
BEGIN:VEVENT
DTSTART;TZID=UTC:20200804T193000
DTEND;TZID=UTC:20200804T213000
DTSTAMP:20260419T221137
CREATED:20200730T133631Z
LAST-MODIFIED:20200730T133631Z
UID:5176-1596569400-1596576600@awgb.co.uk
SUMMARY:Tuesday Turning & Talking
DESCRIPTION:We have a number of turners who have agreed to give us a guided tour of their workshop\, a talk about what they make and a Q & A session too. These are all free of charge to anyone wanting to participate and you can connect from almost any internet enabled device using the link below. It’s the same link for every meeting. Register in advance for this meeting Using this link \nAfter registering\, you will receive a confirmation email containing information about joining the meeting. Please register in advance to ensure you receive the email with meeting details. \nThe meetings are at 7:30pm BST every Tuesday and Friday evening. We will open the meeting at 7:00pm to allow everyone time to get connected before the meeting.` \nThis meeting will be a chat / discussion about sharpening
URL:https://awgb.co.uk/event/tuesday-turning-talking-2/
LOCATION:Zoom meeting – online
CATEGORIES:Talking Turning
END:VEVENT
BEGIN:VEVENT
DTSTART;TZID=UTC:20200802T130000
DTEND;TZID=UTC:20200802T180000
DTSTAMP:20260419T221137
CREATED:20200720T083348Z
LAST-MODIFIED:20200720T083348Z
UID:5099-1596373200-1596391200@awgb.co.uk
SUMMARY:Chestnut Products Weekender
DESCRIPTION:Chestnut products two day online session with demos. You need to register for the links NOT the normal AWGB Ones. Go to Chestnut Products for more info and registration.
URL:https://awgb.co.uk/event/chestnut-products-weekender-2/
LOCATION:Zoom meeting – online
CATEGORIES:Live demo
END:VEVENT
BEGIN:VEVENT
DTSTART;TZID=UTC:20200801T130000
DTEND;TZID=UTC:20200801T180000
DTSTAMP:20260419T221137
CREATED:20200720T083241Z
LAST-MODIFIED:20200720T083241Z
UID:5097-1596286800-1596304800@awgb.co.uk
SUMMARY:Chestnut Products weekender
DESCRIPTION:Chestnut products two day online session with demos. You need to register for the links NOT the normal AWGB Ones. Go to Chestnut Products for more info and registration.
URL:https://awgb.co.uk/event/chestnut-products-weekender/
LOCATION:Zoom meeting – online
CATEGORIES:Live demo
END:VEVENT
BEGIN:VEVENT
DTSTART;TZID=UTC:20200731T193000
DTEND;TZID=UTC:20200731T213000
DTSTAMP:20260419T221137
CREATED:20200730T133540Z
LAST-MODIFIED:20200730T133540Z
UID:5174-1596223800-1596231000@awgb.co.uk
SUMMARY:Friday Turning and Talking
DESCRIPTION:We have a number of turners who have agreed to give us a guided tour of their workshop\, a talk about what they make and a Q & A session too. These are all free of charge to anyone wanting to participate and you can connect from almost any internet enabled device using the link below. It’s the same link for every meeting. Register in advance for this meeting Using this link \nAfter registering\, you will receive a confirmation email containing information about joining the meeting. Please register in advance to ensure you receive the email with meeting details. \nThe meetings are at 7:30pm BST every Tuesday and Friday evening. We will open the meeting at 7:00pm to allow everyone time to get connected before the meeting.` \nThis meeting will be a chat / discussion about sharpening
URL:https://awgb.co.uk/event/friday-turning-and-talking/
LOCATION:Zoom meeting – online
CATEGORIES:Talking Turning
END:VEVENT
BEGIN:VEVENT
DTSTART;TZID=Europe/London:20200724T193000
DTEND;TZID=Europe/London:20200724T213000
DTSTAMP:20260419T221137
CREATED:20200717T135718Z
LAST-MODIFIED:20200721T120035Z
UID:5088-1595619000-1595626200@awgb.co.uk
SUMMARY:Friday Turning & Talking
DESCRIPTION:We have a number of turners who have agreed to give us a guided tour of their workshop\, a talk about what they make and a Q & A session too. These are all free of charge to anyone wanting to participate and you can connect from almost any internet enabled device using the link below. It’s the same link for every meeting. Register in advance for this meeting Using this link \nAfter registering\, you will receive a confirmation email containing information about joining the meeting. Please register in advance to ensure you receive the email with meeting details. \nThe meetings are at 7:30pm BST every Tuesday and Friday evening. We will open the meeting at 7:00pm to allow everyone time to get connected before the meeting.` \nThis meeting will be a chat / discussion about sharpening
URL:https://awgb.co.uk/event/friday-turning-talking/
CATEGORIES:Talking Turning
END:VEVENT
BEGIN:VEVENT
DTSTART;TZID=Europe/London:20200721T193000
DTEND;TZID=Europe/London:20200721T213000
DTSTAMP:20260419T221137
CREATED:20200717T135953Z
LAST-MODIFIED:20200717T135953Z
UID:5090-1595359800-1595367000@awgb.co.uk
SUMMARY:Tuesday Turning & Talking
DESCRIPTION:We have a number of turners who have agreed to give us a guided tour of their workshop\, a talk about what they make and a Q & A session too. These are all free of charge to anyone wanting to participate and you can connect from almost any internet enabled device using the link below. It’s the same link for every meeting. Register in advance for this meeting Using this link \nAfter registering\, you will receive a confirmation email containing information about joining the meeting. Please register in advance to ensure you receive the email with meeting details. \nThe meetings are at 7:30pm BST every Tuesday and Friday evening. We will open the meeting at 7:00pm to allow everyone time to get connected before the meeting.` \nThis meeting will be a visit to Steve Fearnley’s workshop
URL:https://awgb.co.uk/event/tuesday-turning-talking/
CATEGORIES:Talking Turning
END:VEVENT
BEGIN:VEVENT
DTSTART;TZID=Europe/London:20200719T160000
DTEND;TZID=Europe/London:20200719T180000
DTSTAMP:20260419T221137
CREATED:20200717T134203Z
LAST-MODIFIED:20200717T134203Z
UID:5084-1595174400-1595181600@awgb.co.uk
SUMMARY:Jason Clark Live Interactive Demo
DESCRIPTION:Jason Clark from Algonquin Illinois will be doing a live demo for us on Sunday 19th July at 4pm BST. Jason will be showing how to make a “Return of Saturn” bowl. \n\n			\n				\n			\n			\n				\n			\n		\n\nYou can view the demo free from almost any internet enabled device by registering in advance using this link. \nAfter registering\, you will receive a confirmation email containing information about joining the meeting. If you need instructions how to use Zoom or how to connect to the meeting\, here’s a useful guide.
URL:https://awgb.co.uk/event/jason-clark-live-interactive-demo/
CATEGORIES:Live demo
END:VEVENT
BEGIN:VEVENT
DTSTART;TZID=Europe/London:20200717T193000
DTEND;TZID=Europe/London:20200717T213000
DTSTAMP:20260419T221137
CREATED:20200717T135523Z
LAST-MODIFIED:20200717T135523Z
UID:5079-1595014200-1595021400@awgb.co.uk
SUMMARY:Turning and Talking
DESCRIPTION:We have a number of turners who have agreed to give us a guided tour of their workshop\, a talk about what they make and a Q & A session too. These are all free of charge to anyone wanting to participate and you can connect from almost any internet enabled device using the link below. It’s the same link for every meeting. Register in advance for this meeting Using this link \nAfter registering\, you will receive a confirmation email containing information about joining the meeting. Please register in advance to ensure you receive the email with meeting details. \nThe meetings are at 7:30pm BST every Tuesday and Friday evening. We will open the meeting at 7:00pm to allow everyone time to get connected before the meeting.` \nThis meeting will be a chat / discussion
URL:https://awgb.co.uk/event/turning-and-talking/
CATEGORIES:Talking Turning
END:VEVENT
BEGIN:VEVENT
DTSTART;TZID=UTC:20190629T100000
DTEND;TZID=UTC:20190629T163000
DTSTAMP:20260419T221137
CREATED:20190313T155005Z
LAST-MODIFIED:20190313T155005Z
UID:4176-1561802400-1561825800@awgb.co.uk
SUMMARY:Celebrity Demonstration – Richard Findley.
DESCRIPTION:Suffolk Essex Cambs Borders Branch\nSat 29th  June  10 am – 4.30 pm Celebrity Demonstration – Richard Findley.\nLittle Yeldham Village Hall Essex CO9 4LF\n£16 including buffet lunch.\nEnquiries to Brian Partridge 01473 828489\nBrianpart@aol.com
URL:https://awgb.co.uk/event/celebrity-demonstration-richard-findley/
LOCATION:Little Yeldham Village Hall\, Village Hall\, School Road\, Little Yeldham\, Suffolk\, CO9 4LH\, United Kingdom
ORGANIZER;CN="Brian Partridge":MAILTO:brianpart@aol.com
END:VEVENT
BEGIN:VEVENT
DTSTART;TZID=UTC:20190103T191500
DTEND;TZID=UTC:20190103T213000
DTSTAMP:20260419T221137
CREATED:20180107T194245Z
LAST-MODIFIED:20180107T194245Z
UID:3208-1546542900-1546551000@awgb.co.uk
SUMMARY:Suffolk\, Essex & Cambs Borders Branch
DESCRIPTION:AGM 2019\n–\n8pm Waggon and Horses
URL:https://awgb.co.uk/event/suffolk-essex-cambs-borders-branch-14/
LOCATION:Waggon and Horses
CATEGORIES:Club demonstration
END:VEVENT
BEGIN:VEVENT
DTSTART;TZID=UTC:20181206T191500
DTEND;TZID=UTC:20181206T213000
DTSTAMP:20260419T221137
CREATED:20180107T194005Z
LAST-MODIFIED:20180107T194005Z
UID:3205-1544123700-1544131800@awgb.co.uk
SUMMARY:Suffolk\, Essex & Cambs Borders Branch
DESCRIPTION:Demonstration\n.\n–\nMark Baker\n–\nwill show us something different as usual
URL:https://awgb.co.uk/event/suffolk-essex-cambs-borders-branch-13/
LOCATION:Little Yeldham Village Hall\, Village Hall\, School Road\, Little Yeldham\, Suffolk\, CO9 4LH\, United Kingdom
CATEGORIES:Club demonstration
ORGANIZER;CN="Brian Partridge":MAILTO:brianpart@aol.com
END:VEVENT
BEGIN:VEVENT
DTSTART;TZID=UTC:20181203T193000
DTEND;TZID=UTC:20181203T213000
DTSTAMP:20260419T221137
CREATED:20180107T200558Z
LAST-MODIFIED:20180107T200558Z
UID:3238-1543865400-1543872600@awgb.co.uk
SUMMARY:Colchester Woodturners
DESCRIPTION:AGM &Competition
URL:https://awgb.co.uk/event/colchester-woodturners-12/
LOCATION:St Johns Church\, St Johns Church\, St Johns Close\, Colchester\, CO4 0HP\, United Kingdom
CATEGORIES:Club demonstration
ORGANIZER;CN="Alan Essam":MAILTO:alan.essam@sky.com
END:VEVENT
BEGIN:VEVENT
DTSTART;TZID=UTC:20181114T193000
DTEND;TZID=UTC:20181114T220000
DTSTAMP:20260419T221137
CREATED:20180104T013717Z
LAST-MODIFIED:20180104T013734Z
UID:3157-1542223800-1542232800@awgb.co.uk
SUMMARY:Forest of Dean Woodturners
DESCRIPTION:Present a demonstration by Carlyn Lindsay – Segmented turning
URL:https://awgb.co.uk/event/forest-of-dean-woodturners-11/
LOCATION:Weston Under Penyard Village Hall\, Weston Under Penyard Village Hall\, Ross On Wye\, Herefordshire\, HR9 7PA\, United Kingdom
CATEGORIES:Club demonstration
ORGANIZER;CN="Lee Russell":MAILTO:greasedweasle@gmail.com
END:VEVENT
BEGIN:VEVENT
DTSTART;TZID=UTC:20181105T193000
DTEND;TZID=UTC:20181105T213000
DTSTAMP:20260419T221137
CREATED:20180107T200449Z
LAST-MODIFIED:20180107T200449Z
UID:3236-1541446200-1541453400@awgb.co.uk
SUMMARY:Colchester Woodturners
DESCRIPTION:Graham Slaughter \nThe perfectionist returns
URL:https://awgb.co.uk/event/colchester-woodturners-11/
LOCATION:St Johns Church\, St Johns Church\, St Johns Close\, Colchester\, CO4 0HP\, United Kingdom
CATEGORIES:Club demonstration
ORGANIZER;CN="Alan Essam":MAILTO:alan.essam@sky.com
END:VEVENT
BEGIN:VEVENT
DTSTART;TZID=UTC:20181101T080000
DTEND;TZID=UTC:20181101T170000
DTSTAMP:20260419T221137
CREATED:20180107T191259Z
LAST-MODIFIED:20180107T191259Z
UID:3203-1541059200-1541091600@awgb.co.uk
SUMMARY:Suffolk\, Essex & Cambs Borders Branch
DESCRIPTION:Annual Auction\nBring all your unwanted woodturning bits including wood.
URL:https://awgb.co.uk/event/suffolk-essex-cambs-borders-branch-12/
LOCATION:Little Yeldham Village Hall\, Village Hall\, School Road\, Little Yeldham\, Suffolk\, CO9 4LH\, United Kingdom
CATEGORIES:Club demonstration
ORGANIZER;CN="Brian Partridge":MAILTO:brianpart@aol.com
END:VEVENT
BEGIN:VEVENT
DTSTART;TZID=UTC:20181017T193000
DTEND;TZID=UTC:20181017T220000
DTSTAMP:20260419T221137
CREATED:20180104T013550Z
LAST-MODIFIED:20180104T013550Z
UID:3155-1539804600-1539813600@awgb.co.uk
SUMMARY:Forest of Dean Woodturners
DESCRIPTION:Present a demonstration by Paul Hannaby – Metal spinning
URL:https://awgb.co.uk/event/forest-of-dean-woodturners-10/
LOCATION:Weston Under Penyard Village Hall\, Weston Under Penyard Village Hall\, Ross On Wye\, Herefordshire\, HR9 7PA\, United Kingdom
CATEGORIES:Club demonstration
ORGANIZER;CN="Lee Russell":MAILTO:greasedweasle@gmail.com
END:VEVENT
BEGIN:VEVENT
DTSTART;VALUE=DATE:20181013
DTEND;VALUE=DATE:20181014
DTSTAMP:20260419T221137
CREATED:20180107T191118Z
LAST-MODIFIED:20180204T124745Z
UID:3201-1539388800-1539475199@awgb.co.uk
SUMMARY:Suffolk\, Essex & Cambs Borders Branch
DESCRIPTION:Celebrity Demonstration\n–\nColwin Way\n–\nwell known at Axminster for\ntraining and demonstrations\n£16 including buffet lunch.
URL:https://awgb.co.uk/event/suffolk-essex-cambs-borders-branch-11/
LOCATION:Little Yeldham Village Hall\, Village Hall\, School Road\, Little Yeldham\, Suffolk\, CO9 4LH\, United Kingdom
CATEGORIES:Club demonstration
ORGANIZER;CN="Brian Partridge":MAILTO:brianpart@aol.com
END:VEVENT
BEGIN:VEVENT
DTSTART;TZID=UTC:20181004T191500
DTEND;TZID=UTC:20181004T213000
DTSTAMP:20260419T221137
CREATED:20180107T190824Z
LAST-MODIFIED:20180107T190824Z
UID:3199-1538680500-1538688600@awgb.co.uk
SUMMARY:Suffolk\, Essex & Cambs Borders Branch
DESCRIPTION:Demonstration\n–\nBrianMansfield\n–\nPattern making relating to turning\n.\nCompetition\nNovice class\n–\na basic egg shaped box\n\nExpert class\n–\na decorated egg shaped box with stand and finial.
URL:https://awgb.co.uk/event/suffolk-essex-cambs-borders-branch-10/
LOCATION:Little Yeldham Village Hall\, Village Hall\, School Road\, Little Yeldham\, Suffolk\, CO9 4LH\, United Kingdom
CATEGORIES:Club demonstration
END:VEVENT
BEGIN:VEVENT
DTSTART;TZID=UTC:20181001T193000
DTEND;TZID=UTC:20181001T213000
DTSTAMP:20260419T221137
CREATED:20180107T200340Z
LAST-MODIFIED:20180107T200340Z
UID:3234-1538422200-1538429400@awgb.co.uk
SUMMARY:Colchester Woodturners
DESCRIPTION:Mervyn Cadman \nMr Pen kit\, with the wonders of acrylic
URL:https://awgb.co.uk/event/colchester-woodturners-10/
LOCATION:St Johns Church\, St Johns Church\, St Johns Close\, Colchester\, CO4 0HP\, United Kingdom
CATEGORIES:Club demonstration
ORGANIZER;CN="Alan Essam":MAILTO:alan.essam@sky.com
END:VEVENT
BEGIN:VEVENT
DTSTART;TZID=UTC:20180922T100000
DTEND;TZID=UTC:20180922T160000
DTSTAMP:20260419T221137
CREATED:20180107T200740Z
LAST-MODIFIED:20180107T200756Z
UID:3240-1537610400-1537632000@awgb.co.uk
SUMMARY:Colchester Woodturners
DESCRIPTION:Saturday all day \nLes Thorn \nOne of the best professional turners
URL:https://awgb.co.uk/event/colchester-woodturners-13/
LOCATION:St Johns Church\, St Johns Church\, St Johns Close\, Colchester\, CO4 0HP\, United Kingdom
CATEGORIES:Club demonstration
ORGANIZER;CN="Alan Essam":MAILTO:alan.essam@sky.com
END:VEVENT
BEGIN:VEVENT
DTSTART;TZID=UTC:20180919T193000
DTEND;TZID=UTC:20180919T220000
DTSTAMP:20260419T221137
CREATED:20180104T013433Z
LAST-MODIFIED:20180104T013433Z
UID:3153-1537385400-1537394400@awgb.co.uk
SUMMARY:Forest of Dean Woodturners
DESCRIPTION:Presents a demonstration by Dave Appleby – Chucking methods
URL:https://awgb.co.uk/event/forest-of-dean-woodturners-9/
LOCATION:Weston Under Penyard Village Hall\, Weston Under Penyard Village Hall\, Ross On Wye\, Herefordshire\, HR9 7PA\, United Kingdom
CATEGORIES:Club demonstration
ORGANIZER;CN="Lee Russell":MAILTO:greasedweasle@gmail.com
END:VEVENT
END:VCALENDAR