BEGIN:VCALENDAR
VERSION:2.0
PRODID:-//AWGB - ECPv6.15.20//NONSGML v1.0//EN
CALSCALE:GREGORIAN
METHOD:PUBLISH
X-WR-CALNAME:AWGB
X-ORIGINAL-URL:https://awgb.co.uk
X-WR-CALDESC:Events for AWGB
REFRESH-INTERVAL;VALUE=DURATION:PT1H
X-Robots-Tag:noindex
X-PUBLISHED-TTL:PT1H
BEGIN:VTIMEZONE
TZID:UTC
BEGIN:STANDARD
TZOFFSETFROM:+0000
TZOFFSETTO:+0000
TZNAME:UTC
DTSTART:20170101T000000
END:STANDARD
END:VTIMEZONE
BEGIN:VTIMEZONE
TZID:Europe/London
BEGIN:DAYLIGHT
TZOFFSETFROM:+0000
TZOFFSETTO:+0100
TZNAME:BST
DTSTART:20170326T010000
END:DAYLIGHT
BEGIN:STANDARD
TZOFFSETFROM:+0100
TZOFFSETTO:+0000
TZNAME:GMT
DTSTART:20171029T010000
END:STANDARD
BEGIN:DAYLIGHT
TZOFFSETFROM:+0000
TZOFFSETTO:+0100
TZNAME:BST
DTSTART:20180325T010000
END:DAYLIGHT
BEGIN:STANDARD
TZOFFSETFROM:+0100
TZOFFSETTO:+0000
TZNAME:GMT
DTSTART:20181028T010000
END:STANDARD
BEGIN:DAYLIGHT
TZOFFSETFROM:+0000
TZOFFSETTO:+0100
TZNAME:BST
DTSTART:20190331T010000
END:DAYLIGHT
BEGIN:STANDARD
TZOFFSETFROM:+0100
TZOFFSETTO:+0000
TZNAME:GMT
DTSTART:20191027T010000
END:STANDARD
END:VTIMEZONE
BEGIN:VEVENT
DTSTART;TZID=UTC:20180915T100000
DTEND;TZID=UTC:20180915T160000
DTSTAMP:20260420T023640
CREATED:20171209T154041Z
LAST-MODIFIED:20171209T154041Z
UID:3100-1537005600-1537027200@awgb.co.uk
SUMMARY:Richard Findley at Axminster Sittingbourne
DESCRIPTION:Please join us in store as we will have Richard Findley performing a live demonstration on Saturday 15th September. This will be a fantastic opportunity to see Richard in action and see how he creates his master pieces. \nRichard has been involved in woodwork since leaving school in 1996\, at 16. He qualified as a joiner achieving NVQ level 3 and\, while working in the trade for his father\, he discovered Woodturning. He began by turning components for small pieces of furniture and cabinetry that he had made but found that he got more and more involved with the turning side of things.
URL:https://awgb.co.uk/event/richard-findley-at-axminster-sittingbourne/
LOCATION:Axminster Bobbing\, Axminster tools & machinery\, Sheppey Qay\, Bobbing\, Kent\, ME9 8QP\, United Kingdom
CATEGORIES:Trade Show
ORGANIZER;CN="David Johns":MAILTO:david.johns@axminster.co.uk
END:VEVENT
BEGIN:VEVENT
DTSTART;VALUE=DATE:20180907
DTEND;VALUE=DATE:20180909
DTSTAMP:20260420T023640
CREATED:20180702T052319Z
LAST-MODIFIED:20180702T052319Z
UID:3551-1536278400-1536451199@awgb.co.uk
SUMMARY:Yandles Woodworking Show
DESCRIPTION:Always a highlight on the woodworking events calendar. Thousands of visitors come from across the country\, to enjoy the informal and friendly atmosphere that is created within the surroundings of this historic timber yard. \nThe usual working site is transformed with marquees which host a vast array of leading craftspeople. Live Woodworking demonstrations will keep you entertained with new techniques to learn\, useful advice on tools and handy tips.
URL:https://awgb.co.uk/event/yandles-woodworking-show/
LOCATION:Yandle & Son Ltd\, Hurst Works\, Hurst\, Martock\, Somerset\, TA12 6JU\, United Kingdom
END:VEVENT
BEGIN:VEVENT
DTSTART;TZID=UTC:20180906T191500
DTEND;TZID=UTC:20180906T213000
DTSTAMP:20260420T023640
CREATED:20180107T190625Z
LAST-MODIFIED:20180107T190625Z
UID:3197-1536261300-1536269400@awgb.co.uk
SUMMARY:Suffolk\, Essex & Cambs Borders Branch
DESCRIPTION:Demonstration\n–\nEric Sim\nm\nonds\n–\nwill fascinate us with his bird boxes
URL:https://awgb.co.uk/event/suffolk-essex-cambs-borders-branch-9/
LOCATION:Little Yeldham Village Hall\, Village Hall\, School Road\, Little Yeldham\, Suffolk\, CO9 4LH\, United Kingdom
CATEGORIES:Club demonstration
ORGANIZER;CN="Brian Partridge":MAILTO:brianpart@aol.com
END:VEVENT
BEGIN:VEVENT
DTSTART;TZID=UTC:20180903T193000
DTEND;TZID=UTC:20180903T213000
DTSTAMP:20260420T023640
CREATED:20180107T200223Z
LAST-MODIFIED:20180107T200223Z
UID:3232-1536003000-1536010200@awgb.co.uk
SUMMARY:Colchester Woodturners
DESCRIPTION:Auction & Jig Night
URL:https://awgb.co.uk/event/colchester-woodturners-9/
LOCATION:St Johns Church\, St Johns Church\, St Johns Close\, Colchester\, CO4 0HP\, United Kingdom
CATEGORIES:Club demonstration
ORGANIZER;CN="Alan Essam":MAILTO:alan.essam@sky.com
END:VEVENT
BEGIN:VEVENT
DTSTART;TZID=UTC:20180815T193000
DTEND;TZID=UTC:20180815T220000
DTSTAMP:20260420T023640
CREATED:20180104T005428Z
LAST-MODIFIED:20180104T005428Z
UID:3151-1534361400-1534370400@awgb.co.uk
SUMMARY:Forest of Dean Woodturners
DESCRIPTION:Workshop visit
URL:https://awgb.co.uk/event/forest-of-dean-woodturners-8/
CATEGORIES:Club demonstration
ORGANIZER;CN="Lee Russell":MAILTO:greasedweasle@gmail.com
END:VEVENT
BEGIN:VEVENT
DTSTART;TZID=UTC:20180811T092000
DTEND;TZID=UTC:20180811T164500
DTSTAMP:20260420T023640
CREATED:20180429T104153Z
LAST-MODIFIED:20180429T104153Z
UID:3402-1533979200-1534005900@awgb.co.uk
SUMMARY:Turn East
DESCRIPTION:The 14th East of England Woodturning Seminar \nSaturday 11th August 2018\nAt Fakenham High School\, Fields Lane\, Fakenham. Norfolk\n9.20 am  till 16.45 pm \nAdmission will be by ticket only at the price of £30.00\nwhich includes a buffet lunch\, teas & coffee. \nWe have lined up a team of first class turners to demonstrate for us \nSimon Hope\, Peter Nicholls\, Ed Oliver & John Plater  \nIn addition we hope to have a range of trade stands together with an exhibition of\nmembers and delegates work. \nAs we will only have a limited number of spaces available\, early application is\nrecommended to what we believe will be a first class event. \nApplication form and further details are available from:-\n.Bernard Rose\, 63\,Belmore Road\, Thorpe St. Andrew\, Norwich. NR7 0PR\nTel: 01603 436990 or email bandm.rose@tiscali.co.uk \nTurn East 2018 is a one day Bi-Annual Regional Seminar\nOrganized by the \n                                      Norfolk Woodturners Society
URL:https://awgb.co.uk/event/turn-east/
LOCATION:Fakenham High School\, Fields Lane\, Fakenham. Norfolk\, Fields Lane\, Fakenham\, Norfolk
END:VEVENT
BEGIN:VEVENT
DTSTART;TZID=UTC:20180810T100000
DTEND;TZID=UTC:20180811T160000
DTSTAMP:20260420T023640
CREATED:20171209T153705Z
LAST-MODIFIED:20171209T154132Z
UID:3097-1533895200-1534003200@awgb.co.uk
SUMMARY:Andrew Hall at Axminster Sittingbourne
DESCRIPTION:Please join us in store as we will have Andrew Hall aka “Hat Man” doing a two day live demonstration on Friday 10th and Saturday 11th August. This will be a fantastic opportunity to see Andrew in action and see how he creates his fantastic hats. \n Andrew first became interested in woodturning at the age of 14 when his woodwork teacher tutored a small group of keen students in woodworking\, furniture making and woodturning. On leaving school and after a five-year apprenticeship\, Andrew’s teaching career began with the opportunity to teach apprentices at three colleges across the north east of England. After teaching carpentry and joinery for 20 years\, he decided to rekindle his love of woodturning and has now been turning professionally for 12 years.
URL:https://awgb.co.uk/event/andrew-hall-at-axminster-sittingbourne/
LOCATION:Axminster Bobbing\, Axminster tools & machinery\, Sheppey Qay\, Bobbing\, Kent\, ME9 8QP\, United Kingdom
CATEGORIES:Trade Show
ORGANIZER;CN="David Johns":MAILTO:david.johns@axminster.co.uk
END:VEVENT
BEGIN:VEVENT
DTSTART;TZID=UTC:20180806T193000
DTEND;TZID=UTC:20180806T213000
DTSTAMP:20260420T023640
CREATED:20180107T200057Z
LAST-MODIFIED:20180107T200057Z
UID:3229-1533583800-1533591000@awgb.co.uk
SUMMARY:Colchester Woodturners
DESCRIPTION:Hands On evening & Competition
URL:https://awgb.co.uk/event/colchester-woodturners-8/
LOCATION:St Johns Church\, St Johns Church\, St Johns Close\, Colchester\, CO4 0HP\, United Kingdom
ORGANIZER;CN="Alan Essam":MAILTO:alan.essam@sky.com
END:VEVENT
BEGIN:VEVENT
DTSTART;TZID=UTC:20180802T191500
DTEND;TZID=UTC:20180802T213000
DTSTAMP:20260420T023640
CREATED:20180107T190439Z
LAST-MODIFIED:20180107T190439Z
UID:3195-1533237300-1533245400@awgb.co.uk
SUMMARY:Suffolk\, Essex & Cambs Borders Branch
DESCRIPTION:Demonstration\n–\nTom Kittle\n–\nshows his\nspecial way of doing\nthings\n.\nInstant Gallery Project\n–\nClocks
URL:https://awgb.co.uk/event/suffolk-essex-cambs-borders-branch-8/
LOCATION:Little Yeldham Village Hall\, Village Hall\, School Road\, Little Yeldham\, Suffolk\, CO9 4LH\, United Kingdom
CATEGORIES:Club demonstration
END:VEVENT
BEGIN:VEVENT
DTSTART;TZID=UTC:20180719T193000
DTEND;TZID=UTC:20180719T221500
DTSTAMP:20260420T023640
CREATED:20180622T204756Z
LAST-MODIFIED:20180622T204756Z
UID:3513-1532028600-1532038500@awgb.co.uk
SUMMARY:Avon & Bristol Woodturners
DESCRIPTION:Demonstraton by Liz Kent
URL:https://awgb.co.uk/event/avon-bristol-woodturners/
LOCATION:St. Teresa’s Church Hall\, 	  St. Teresa's Church Hall\, Gloucester Road North\, Filton\, Bristol\, BS34 7PL\, United Kingdom
CATEGORIES:Club demonstration
ORGANIZER;CN="John MacLellan":MAILTO:maclellan741@gmail.com
END:VEVENT
BEGIN:VEVENT
DTSTART;TZID=UTC:20180718T193000
DTEND;TZID=UTC:20180718T220000
DTSTAMP:20260420T023640
CREATED:20180104T005328Z
LAST-MODIFIED:20180104T005328Z
UID:3149-1531942200-1531951200@awgb.co.uk
SUMMARY:Forest of Dean Woodturners
DESCRIPTION:Present a demonstration by Mark Hancock
URL:https://awgb.co.uk/event/forest-of-dean-woodturners-7/
LOCATION:Weston Under Penyard Village Hall\, Weston Under Penyard Village Hall\, Ross On Wye\, Herefordshire\, HR9 7PA\, United Kingdom
CATEGORIES:Club demonstration
ORGANIZER;CN="Lee Russell":MAILTO:greasedweasle@gmail.com
END:VEVENT
BEGIN:VEVENT
DTSTART;TZID=UTC:20180705T080000
DTEND;TZID=UTC:20180705T170000
DTSTAMP:20260420T023640
CREATED:20180107T190235Z
LAST-MODIFIED:20180107T190235Z
UID:3193-1530777600-1530810000@awgb.co.uk
SUMMARY:Suffolk\, Essex & Cambs Borders Branch
DESCRIPTION:Demonstration\n–\nPeter Nicholls\n–\nWhat makes the best blanks
URL:https://awgb.co.uk/event/suffolk-essex-cambs-borders-branch-7/
LOCATION:Little Yeldham Village Hall\, Village Hall\, School Road\, Little Yeldham\, Suffolk\, CO9 4LH\, United Kingdom
END:VEVENT
BEGIN:VEVENT
DTSTART;TZID=UTC:20180702T193000
DTEND;TZID=UTC:20180702T213000
DTSTAMP:20260420T023640
CREATED:20180107T195927Z
LAST-MODIFIED:20180107T195927Z
UID:3224-1530559800-1530567000@awgb.co.uk
SUMMARY:Colchester Woodturners
DESCRIPTION:Con Rendell \nLuthier
URL:https://awgb.co.uk/event/colchester-woodturners-7/
LOCATION:St Johns Church\, St Johns Church\, St Johns Close\, Colchester\, CO4 0HP\, United Kingdom
CATEGORIES:Club demonstration
ORGANIZER;CN="Alan Essam":MAILTO:alan.essam@sky.com
END:VEVENT
BEGIN:VEVENT
DTSTART;TZID=UTC:20180630T090000
DTEND;TZID=UTC:20180701T170000
DTSTAMP:20260420T023640
CREATED:20180626T215748Z
LAST-MODIFIED:20180626T215908Z
UID:3517-1530349200-1530464400@awgb.co.uk
SUMMARY:UKIWS - Coventry
DESCRIPTION:UK & Ireland Woodturning Symposium
URL:https://awgb.co.uk/event/ukiws-coventry/
LOCATION:Hilton Hotel Coventry\, Hilton Hotel\, Paradise Way\, Coventry\, CV2 2ST\, United Kingdom
CATEGORIES:Trade Show
END:VEVENT
END:VCALENDAR