BEGIN:VCALENDAR
VERSION:2.0
PRODID:-//AWGB - ECPv6.15.20//NONSGML v1.0//EN
CALSCALE:GREGORIAN
METHOD:PUBLISH
X-WR-CALNAME:AWGB
X-ORIGINAL-URL:https://awgb.co.uk
X-WR-CALDESC:Events for AWGB
REFRESH-INTERVAL;VALUE=DURATION:PT1H
X-Robots-Tag:noindex
X-PUBLISHED-TTL:PT1H
BEGIN:VTIMEZONE
TZID:UTC
BEGIN:STANDARD
TZOFFSETFROM:+0000
TZOFFSETTO:+0000
TZNAME:UTC
DTSTART:20170101T000000
END:STANDARD
END:VTIMEZONE
BEGIN:VEVENT
DTSTART;TZID=UTC:20180802T191500
DTEND;TZID=UTC:20180802T213000
DTSTAMP:20260420T223828
CREATED:20180107T190439Z
LAST-MODIFIED:20180107T190439Z
UID:3195-1533237300-1533245400@awgb.co.uk
SUMMARY:Suffolk\, Essex & Cambs Borders Branch
DESCRIPTION:Demonstration\n–\nTom Kittle\n–\nshows his\nspecial way of doing\nthings\n.\nInstant Gallery Project\n–\nClocks
URL:https://awgb.co.uk/event/suffolk-essex-cambs-borders-branch-8/
LOCATION:Little Yeldham Village Hall\, Village Hall\, School Road\, Little Yeldham\, Suffolk\, CO9 4LH\, United Kingdom
CATEGORIES:Club demonstration
END:VEVENT
BEGIN:VEVENT
DTSTART;TZID=UTC:20180719T193000
DTEND;TZID=UTC:20180719T221500
DTSTAMP:20260420T223828
CREATED:20180622T204756Z
LAST-MODIFIED:20180622T204756Z
UID:3513-1532028600-1532038500@awgb.co.uk
SUMMARY:Avon & Bristol Woodturners
DESCRIPTION:Demonstraton by Liz Kent
URL:https://awgb.co.uk/event/avon-bristol-woodturners/
LOCATION:St. Teresa’s Church Hall\, 	  St. Teresa's Church Hall\, Gloucester Road North\, Filton\, Bristol\, BS34 7PL\, United Kingdom
CATEGORIES:Club demonstration
ORGANIZER;CN="John MacLellan":MAILTO:maclellan741@gmail.com
END:VEVENT
BEGIN:VEVENT
DTSTART;TZID=UTC:20180718T193000
DTEND;TZID=UTC:20180718T220000
DTSTAMP:20260420T223828
CREATED:20180104T005328Z
LAST-MODIFIED:20180104T005328Z
UID:3149-1531942200-1531951200@awgb.co.uk
SUMMARY:Forest of Dean Woodturners
DESCRIPTION:Present a demonstration by Mark Hancock
URL:https://awgb.co.uk/event/forest-of-dean-woodturners-7/
LOCATION:Weston Under Penyard Village Hall\, Weston Under Penyard Village Hall\, Ross On Wye\, Herefordshire\, HR9 7PA\, United Kingdom
CATEGORIES:Club demonstration
ORGANIZER;CN="Lee Russell":MAILTO:greasedweasle@gmail.com
END:VEVENT
BEGIN:VEVENT
DTSTART;TZID=UTC:20180705T080000
DTEND;TZID=UTC:20180705T170000
DTSTAMP:20260420T223828
CREATED:20180107T190235Z
LAST-MODIFIED:20180107T190235Z
UID:3193-1530777600-1530810000@awgb.co.uk
SUMMARY:Suffolk\, Essex & Cambs Borders Branch
DESCRIPTION:Demonstration\n–\nPeter Nicholls\n–\nWhat makes the best blanks
URL:https://awgb.co.uk/event/suffolk-essex-cambs-borders-branch-7/
LOCATION:Little Yeldham Village Hall\, Village Hall\, School Road\, Little Yeldham\, Suffolk\, CO9 4LH\, United Kingdom
END:VEVENT
BEGIN:VEVENT
DTSTART;TZID=UTC:20180702T193000
DTEND;TZID=UTC:20180702T213000
DTSTAMP:20260420T223828
CREATED:20180107T195927Z
LAST-MODIFIED:20180107T195927Z
UID:3224-1530559800-1530567000@awgb.co.uk
SUMMARY:Colchester Woodturners
DESCRIPTION:Con Rendell \nLuthier
URL:https://awgb.co.uk/event/colchester-woodturners-7/
LOCATION:St Johns Church\, St Johns Church\, St Johns Close\, Colchester\, CO4 0HP\, United Kingdom
CATEGORIES:Club demonstration
ORGANIZER;CN="Alan Essam":MAILTO:alan.essam@sky.com
END:VEVENT
BEGIN:VEVENT
DTSTART;TZID=UTC:20180630T090000
DTEND;TZID=UTC:20180701T170000
DTSTAMP:20260420T223828
CREATED:20180626T215748Z
LAST-MODIFIED:20180626T215908Z
UID:3517-1530349200-1530464400@awgb.co.uk
SUMMARY:UKIWS - Coventry
DESCRIPTION:UK & Ireland Woodturning Symposium
URL:https://awgb.co.uk/event/ukiws-coventry/
LOCATION:Hilton Hotel Coventry\, Hilton Hotel\, Paradise Way\, Coventry\, CV2 2ST\, United Kingdom
CATEGORIES:Trade Show
END:VEVENT
END:VCALENDAR